BEGIN:VCALENDAR
VERSION:2.0
PRODID:https://www.enter.ch
BEGIN:VEVENT
UID:20260420T141801Z - 93450@12016750b454
DTSTART:20261205T100000
DTEND:20261206T170000
DESCRIPTION:Enter | Christmas market: \nLink:\nhttps://www.enter.ch/en/even
 ts/christmas-market-2026/\n\nWe are very excited about your participation!
DTSTAMP:20260420T141801Z
LOCATION:Enter Technikwelt Solothurn\, Gewerbestrasse 4 Gewerbestrasse 4\, 
 4552 Derendingen
SUMMARY:Enter | Christmas market
END:VEVENT
END:VCALENDAR
