BEGIN:VCALENDAR
VERSION:2.0
PRODID:https://www.enter.ch
BEGIN:VEVENT
UID:20260420T141449Z - 55873@12016750b454
DTSTART:20261205T140000
DTEND:20261205T150000
DESCRIPTION:Enter | Demonstration: Linotype – The revolution of book prin
 ting (December): \nLink:\nhttps://www.enter.ch/en/events/demonstration-lin
 otype-the-revolution-of-book-printing-december/\n\nWe are very excited abo
 ut your participation!
DTSTAMP:20260420T141449Z
LOCATION:Enter Technikwelt Solothurn\, Gewerbestrasse 4 Gewerbestrasse 4\, 
 4552 Derendingen
SUMMARY:Enter | Demonstration: Linotype – The revolution of book printing
  (December)
END:VEVENT
END:VCALENDAR
