BEGIN:VCALENDAR
VERSION:2.0
PRODID:https://www.enter.ch
BEGIN:VEVENT
UID:20260420T141448Z - 23377@12016750b454
DTSTART:20261107T140000
DTEND:20261107T150000
DESCRIPTION:Enter | Demonstration: Linotype – The revolution of book prin
 ting (November): \nLink:\nhttps://www.enter.ch/en/events/demonstration-lin
 otype-the-revolution-of-book-printing-november/\n\nWe are very excited abo
 ut your participation!
DTSTAMP:20260420T141448Z
LOCATION:Enter Technikwelt Solothurn\, Gewerbestrasse 4 Gewerbestrasse 4\, 
 4552 Derendingen
SUMMARY:Enter | Demonstration: Linotype – The revolution of book printing
  (November)
END:VEVENT
END:VCALENDAR
