BEGIN:VCALENDAR
VERSION:2.0
PRODID:https://www.enter.ch
BEGIN:VEVENT
UID:20260420T141423Z - 9418@12016750b454
DTSTART:20261010T140000
DTEND:20261010T150000
DESCRIPTION:Enter | Demonstration: Linotype – The revolution of book prin
 ting (October): \nLink:\nhttps://www.enter.ch/en/events/demonstration-lino
 type-the-revolution-of-book-printing-october/\n\nWe are very excited about
  your participation!
DTSTAMP:20260420T141423Z
LOCATION:Enter Technikwelt Solothurn\, Gewerbestrasse 4 Gewerbestrasse 4\, 
 4552 Derendingen
SUMMARY:Enter | Demonstration: Linotype – The revolution of book printing
  (October)
END:VEVENT
END:VCALENDAR
