BEGIN:VCALENDAR
VERSION:2.0
PRODID:https://www.enter.ch
BEGIN:VEVENT
UID:20260420T142346Z - 9726@12016750b454
DTSTART:20260808T140000
DTEND:20260808T150000
DESCRIPTION:Enter | Demonstration: Linotype – The Revolution of Printing 
 August: \nLink:\nhttps://www.enter.ch/en/events/demonstration-linotype-the
 -revolution-of-printing-august/\n\nWe are very excited about your particip
 ation!
DTSTAMP:20260420T142346Z
LOCATION:Enter Technikwelt Solothurn\, Gewerbestrasse 4 Gewerbestrasse 4\, 
 4552 Derendingen
SUMMARY:Enter | Demonstration: Linotype – The Revolution of Printing Augu
 st
END:VEVENT
END:VCALENDAR
