BEGIN:VCALENDAR
VERSION:2.0
PRODID:https://www.enter.ch
BEGIN:VEVENT
UID:20260420T141448Z - 91253@12016750b454
DTSTART:20270206T140000
DTEND:20270206T150000
DESCRIPTION:Enter | Demonstration: Linotype – The Revolution of Printing 
 (February): \nLink:\nhttps://www.enter.ch/en/events/demonstration-linotype
 -the-revolution-of-printing-february/\n\nWe are very excited about your pa
 rticipation!
DTSTAMP:20260420T141448Z
LOCATION:Enter Technikwelt Solothurn\, Gewerbestrasse 4 Gewerbestrasse 4\, 
 4552 Derendingen
SUMMARY:Enter | Demonstration: Linotype – The Revolution of Printing (Feb
 ruary)
END:VEVENT
END:VCALENDAR
