BEGIN:VCALENDAR
VERSION:2.0
PRODID:https://www.enter.ch
BEGIN:VEVENT
UID:20260420T141424Z - 88139@12016750b454
DTSTART:20270109T140000
DTEND:20270109T150000
DESCRIPTION:Enter | Demonstration: Linotype – The Revolution of Printing 
 (January): \nLink:\nhttps://www.enter.ch/en/events/demonstration-linotype-
 the-revolution-of-printing-january/\n\nWe are very excited about your part
 icipation!
DTSTAMP:20260420T141424Z
LOCATION:Enter Technikwelt Solothurn\, Gewerbestrasse 4 Gewerbestrasse 4\, 
 4552 Derendingen
SUMMARY:Enter | Demonstration: Linotype – The Revolution of Printing (Jan
 uary)
END:VEVENT
END:VCALENDAR
