BEGIN:VCALENDAR
VERSION:2.0
PRODID:https://www.enter.ch
BEGIN:VEVENT
UID:20260420T142406Z - 29675@12016750b454
DTSTART:20260704T140000
DTEND:20260704T150000
DESCRIPTION:Enter | Demonstration: Linotype – The Revolution of Printing 
 July: \nLink:\nhttps://www.enter.ch/en/events/demonstration-linotype-the-r
 evolution-of-printing-july/\n\nWe are very excited about your participatio
 n!
DTSTAMP:20260420T142406Z
LOCATION:Enter Technikwelt Solothurn\, Gewerbestrasse 4 Gewerbestrasse 4\, 
 4552 Derendingen
SUMMARY:Enter | Demonstration: Linotype – The Revolution of Printing July
END:VEVENT
END:VCALENDAR
