BEGIN:VCALENDAR
VERSION:2.0
PRODID:https://www.enter.ch
BEGIN:VEVENT
UID:20260420T154949Z - 54157@12016750b454
DTSTART:20260606T140000
DTEND:20260606T150000
DESCRIPTION:Enter | Demonstration: Linotype – The Revolution of Printing 
 June: \nLink:\nhttps://www.enter.ch/en/events/demonstration-linotype-the-r
 evolution-of-printing-june/\n\nWe are very excited about your participatio
 n!
DTSTAMP:20260420T154949Z
LOCATION:Enter Technikwelt Solothurn\, Gewerbestrasse 4 Gewerbestrasse 4\, 
 4552 Derendingen
SUMMARY:Enter | Demonstration: Linotype – The Revolution of Printing June
END:VEVENT
END:VCALENDAR
