BEGIN:VCALENDAR
VERSION:2.0
PRODID:https://www.enter.ch
BEGIN:VEVENT
UID:20260420T141424Z - 21612@12016750b454
DTSTART:20270313T140000
DTEND:20270313T150000
DESCRIPTION:Enter | Demonstration: Linotype – The Revolution of Printing 
 (March): \nLink:\nhttps://www.enter.ch/en/events/demonstration-linotype-th
 e-revolution-of-printing-march/\n\nWe are very excited about your particip
 ation!
DTSTAMP:20260420T141424Z
LOCATION:Enter Technikwelt Solothurn\, Gewerbestrasse 4 Gewerbestrasse 4\, 
 4552 Derendingen
SUMMARY:Enter | Demonstration: Linotype – The Revolution of Printing (Mar
 ch)
END:VEVENT
END:VCALENDAR
