BEGIN:VCALENDAR
VERSION:2.0
PRODID:https://www.enter.ch
BEGIN:VEVENT
UID:20260420T142406Z - 61055@12016750b454
DTSTART:20260905T140000
DTEND:20260905T150000
DESCRIPTION:Enter | Demonstration: Linotype – The Revolution of Printing 
 September: \nLink:\nhttps://www.enter.ch/en/events/demonstration-linotype-
 the-revolution-of-printing-september/\n\nWe are very excited about your pa
 rticipation!
DTSTAMP:20260420T142406Z
LOCATION:Enter Technikwelt Solothurn\, Gewerbestrasse 4 Gewerbestrasse 4\, 
 4552 Derendingen
SUMMARY:Enter | Demonstration: Linotype – The Revolution of Printing Sept
 ember
END:VEVENT
END:VCALENDAR
