BEGIN:VCALENDAR
VERSION:2.0
PRODID:https://www.enter.ch
BEGIN:VEVENT
UID:20260420T155257Z - 45985@12016750b454
DTSTART:20260808T100000
DTEND:20260808T170000
DESCRIPTION:Enter | Enter Flea Market: \nLink:\nhttps://www.enter.ch/en/eve
 nts/enter-flea-market-august/\n\nWe are very excited about your participat
 ion!
DTSTAMP:20260420T155257Z
LOCATION:Enter Technikwelt Solothurn\, Gewerbestrasse 4 Gewerbestrasse 4\, 
 4552 Derendingen
SUMMARY:Enter | Enter Flea Market
END:VEVENT
END:VCALENDAR
