BEGIN:VCALENDAR
VERSION:2.0
PRODID:https://www.enter.ch
BEGIN:VEVENT
UID:20260420T141611Z - 28958@12016750b454
DTSTART:20261010T100000
DTEND:20261010T170000
DESCRIPTION:Enter | Enter Flea Market: \nLink:\nhttps://www.enter.ch/en/eve
 nts/enter-flea-market-october/\n\nWe are very excited about your participa
 tion!
DTSTAMP:20260420T141611Z
LOCATION:Enter Technikwelt Solothurn\, Gewerbestrasse 4 Gewerbestrasse 4\, 
 4552 Derendingen
SUMMARY:Enter | Enter Flea Market
END:VEVENT
END:VCALENDAR
