BEGIN:VCALENDAR
VERSION:2.0
PRODID:https://www.enter.ch
BEGIN:VEVENT
UID:20260420T144207Z - 82082@12016750b454
DTSTART:20260926T100000
DTEND:20260927T170000
DESCRIPTION:Enter | Enter OTM - Classic Car Parts Market: \nLink:\nhttps://
 www.enter.ch/en/events/enter-otm-classic-car-parts-market/\n\nWe are very 
 excited about your participation!
DTSTAMP:20260420T144207Z
LOCATION:Enter Technikwelt Solothurn\, Gewerbestrasse 4 Gewerbestrasse 4\, 
 4552 Derendingen
SUMMARY:Enter | Enter OTM - Classic Car Parts Market
END:VEVENT
END:VCALENDAR
