BEGIN:VCALENDAR
VERSION:2.0
PRODID:https://www.enter.ch
BEGIN:VEVENT
UID:20260423T003630Z - 86591@12016750b454
DTSTART:20260606T100000
DTEND:20260607T170000
DESCRIPTION:Enter | Film Car Meeting: \nLink:\nhttps://www.enter.ch/en/even
 ts/film-car-meeting-2026/\n\nWe are very excited about your participation!
DTSTAMP:20260423T003630Z
LOCATION:Enter Technikwelt Solothurn\, Gewerbestrasse 4 Gewerbestrasse 4\, 
 4552 Derendingen
SUMMARY:Enter | Film Car Meeting
END:VEVENT
END:VCALENDAR
