BEGIN:VCALENDAR
VERSION:2.0
PRODID:https://www.enter.ch
BEGIN:VEVENT
UID:20260426T030416Z - 43114@c9d354f01e69
DTSTART:20260524T100000
DTEND:20260524T170000
DESCRIPTION:Enter | Ford Meeting (with Ford Switzerland): \nLink:\nhttps://
 www.enter.ch/en/events/ford-meeting-may-26/\n\nWe are very excited about y
 our participation!
DTSTAMP:20260426T030416Z
LOCATION:Enter Technikwelt Solothurn\, Gewerbestrasse 4 Gewerbestrasse 4\, 
 4552 Derendingen
SUMMARY:Enter | Ford Meeting (with Ford Switzerland)
END:VEVENT
END:VCALENDAR
