BEGIN:VCALENDAR
VERSION:2.0
PRODID:https://www.enter.ch
BEGIN:VEVENT
UID:20260423T181139Z - 89603@12016750b454
DTSTART:20260726T100000
DTEND:20260726T170000
DESCRIPTION:Enter | Harley-Davidson Meeting: \nLink:\nhttps://www.enter.ch/
 en/events/harley-davidson-meeting-jul-26/\n\nWe are very excited about you
 r participation!
DTSTAMP:20260423T181139Z
LOCATION:Enter Technikwelt Solothurn\, Gewerbestrasse 4 Gewerbestrasse 4\, 
 4552 Derendingen
SUMMARY:Enter | Harley-Davidson Meeting
END:VEVENT
END:VCALENDAR
