BEGIN:VCALENDAR
VERSION:2.0
PRODID:https://www.enter.ch
BEGIN:VEVENT
UID:20260423T180804Z - 78994@12016750b454
DTSTART:20260802T100000
DTEND:20260802T170000
DESCRIPTION:Enter | Hotrod & Custom Cars Meeting: \nLink:\nhttps://www.ente
 r.ch/en/events/hotrod-custom-cars-meeting-aug-26/\n\nWe are very excited a
 bout your participation!
DTSTAMP:20260423T180804Z
LOCATION:Enter Technikwelt Solothurn\, Gewerbestrasse 4 Gewerbestrasse 4\, 
 4552 Derendingen
SUMMARY:Enter | Hotrod & Custom Cars Meeting
END:VEVENT
END:VCALENDAR
