BEGIN:VCALENDAR
VERSION:2.0
PRODID:https://www.enter.ch
BEGIN:VEVENT
UID:20260420T141315Z - 60547@12016750b454
DTSTART:20260705T100000
DTEND:20260705T170000
DESCRIPTION:Enter | Nerdy Flohmarkt: \nLink:\nhttps://www.enter.ch/en/event
 s/nerdy-flohmarkt-2026-en/\n\nWe are very excited about your participation
 !
DTSTAMP:20260420T141315Z
LOCATION:Enter Technikwelt Solothurn\, Gewerbestrasse 4 Gewerbestrasse 4\, 
 4552 Derendingen
SUMMARY:Enter | Nerdy Flohmarkt
END:VEVENT
END:VCALENDAR
