BEGIN:VCALENDAR
VERSION:2.0
PRODID:https://www.enter.ch
BEGIN:VEVENT
UID:20260420T141452Z - 13378@12016750b454
DTSTART:20260502T103000
DTEND:20260502T120000
DESCRIPTION:Enter | Public tour: Highlights of the history of technology: \
 nLink:\nhttps://www.enter.ch/en/events/public-tour-highlights-of-the-histo
 ry-of-technology-may/\n\nWe are very excited about your participation!
DTSTAMP:20260420T141452Z
LOCATION:Enter Technikwelt Solothurn\, Gewerbestrasse 4 Gewerbestrasse 4\, 
 4552 Derendingen
SUMMARY:Enter | Public tour: Highlights of the history of technology
END:VEVENT
END:VCALENDAR
