BEGIN:VCALENDAR
VERSION:2.0
PRODID:https://www.enter.ch
BEGIN:VEVENT
UID:20260420T141926Z - 6087@12016750b454
DTSTART:20260918T190000
DTEND:20260918T213000
DESCRIPTION:Enter | Workshop: 3D Drawing with FreeCAD – Advanced course: 
 \nLink:\nhttps://www.enter.ch/en/events/workshop-3d-drawing-with-freecad-a
 dvanced-course-september/\n\nWe are very excited about your participation!
DTSTAMP:20260420T141926Z
LOCATION:Enter Technikwelt Solothurn\, Gewerbestrasse 4 Gewerbestrasse 4\, 
 4552 Derendingen
SUMMARY:Enter | Workshop: 3D Drawing with FreeCAD – Advanced course
END:VEVENT
END:VCALENDAR
