BEGIN:VCALENDAR
VERSION:2.0
PRODID:https://www.enter.ch
BEGIN:VEVENT
UID:20260420T144412Z - 92839@12016750b454
DTSTART:20260822T133000
DTEND:20260822T170000
DESCRIPTION:Enter | Workshop: 3D Drawing with FreeCAD – Basics: \nLink:\n
 https://www.enter.ch/en/events/workshop-3d-drawing-with-freecad-basics-aug
 ust/\n\nWe are very excited about your participation!
DTSTAMP:20260420T144412Z
LOCATION:Enter Technikwelt Solothurn\, Gewerbestrasse 4 Gewerbestrasse 4\, 
 4552 Derendingen
SUMMARY:Enter | Workshop: 3D Drawing with FreeCAD – Basics
END:VEVENT
END:VCALENDAR
