BEGIN:VCALENDAR
VERSION:2.0
PRODID:https://www.enter.ch
BEGIN:VEVENT
UID:20260420T144333Z - 14029@12016750b454
DTSTART:20260822T100000
DTEND:20260822T120000
DESCRIPTION:Enter | Workshop: 3D Printing Basics: \nLink:\nhttps://www.ente
 r.ch/en/events/workshop-3d-printing-basics-august/\n\nWe are very excited 
 about your participation!
DTSTAMP:20260420T144333Z
LOCATION:Enter Technikwelt Solothurn\, Gewerbestrasse 4 Gewerbestrasse 4\, 
 4552 Derendingen
SUMMARY:Enter | Workshop: 3D Printing Basics
END:VEVENT
END:VCALENDAR
