BEGIN:VCALENDAR
VERSION:2.0
PRODID:https://www.enter.ch
BEGIN:VEVENT
UID:20260420T124905Z - 35397@12016750b454
DTSTART:20260822T100000
DTEND:20260822T120000
DESCRIPTION:Enter | Atelier : bases de l'impression 3D: \nLink:\nhttps://w
 ww.enter.ch/fr/evenements/atelier-bases-de-l-impression-3d-aout/\n\nNous s
 ommes très heureux de votre participation !
DTSTAMP:20260420T124905Z
LOCATION:Enter Technikwelt Solothurn\, Gewerbestrasse 4 Gewerbestrasse 4\, 
 4552 Derendingen
SUMMARY:Enter | Atelier : bases de l'impression 3D
END:VEVENT
END:VCALENDAR
