BEGIN:VCALENDAR
VERSION:2.0
PRODID:https://www.enter.ch
BEGIN:VEVENT
UID:20260420T124314Z - 92974@12016750b454
DTSTART:20260822T133000
DTEND:20260822T170000
DESCRIPTION:Enter | Atelier : Dessin 3D avec FreeCAD – Bases: \nLink:\nht
 tps://www.enter.ch/fr/evenements/atelier-dessin-3d-avec-freecad-bases-aout
 /\n\nNous sommes très heureux de votre participation !
DTSTAMP:20260420T124314Z
LOCATION:Enter Technikwelt Solothurn\, Gewerbestrasse 4 Gewerbestrasse 4\, 
 4552 Derendingen
SUMMARY:Enter | Atelier : Dessin 3D avec FreeCAD – Bases
END:VEVENT
END:VCALENDAR
