BEGIN:VCALENDAR
VERSION:2.0
PRODID:https://www.enter.ch
BEGIN:VEVENT
UID:20260420T125133Z - 83488@12016750b454
DTSTART:20260918T190000
DTEND:20260918T213000
DESCRIPTION:Enter | Atelier : Dessin 3D avec FreeCAD – Perfectionnement: 
 \nLink:\nhttps://www.enter.ch/fr/evenements/atelier-dessin-3d-avec-freecad
 -perfectionnement-septembre/\n\nNous sommes très heureux de votre partici
 pation !
DTSTAMP:20260420T125133Z
LOCATION:Enter Technikwelt Solothurn\, Gewerbestrasse 4 Gewerbestrasse 4\, 
 4552 Derendingen
SUMMARY:Enter | Atelier : Dessin 3D avec FreeCAD – Perfectionnement
END:VEVENT
END:VCALENDAR
