BEGIN:VCALENDAR
VERSION:2.0
PRODID:https://www.enter.ch
BEGIN:VEVENT
UID:20260420T124819Z - 37183@12016750b454
DTSTART:20260712T093000
DTEND:20260712T120000
DESCRIPTION:Enter | Brunch au musée en juillet: \nLink:\nhttps://www.enter
 .ch/fr/evenements/brunch-au-musee-en-juillet/\n\nNous sommes très heureux
  de votre participation !
DTSTAMP:20260420T124819Z
LOCATION:Enter Technikwelt Solothurn\, Gewerbestrasse 4 Gewerbestrasse 4\, 
 4552 Derendingen
SUMMARY:Enter | Brunch au musée en juillet
END:VEVENT
END:VCALENDAR
