BEGIN:VCALENDAR
VERSION:2.0
PRODID:https://www.enter.ch
BEGIN:VEVENT
UID:20260424T112220Z - 15437@c9d354f01e69
DTSTART:20260614T093000
DTEND:20260614T120000
DESCRIPTION:Enter | Brunch au musée Juin: \nLink:\nhttps://www.enter.ch/fr
 /evenements/brunch-au-musee-juin/\n\nNous sommes très heureux de votre pa
 rticipation !
DTSTAMP:20260424T112220Z
LOCATION:Enter Technikwelt Solothurn\, Gewerbestrasse 4 Gewerbestrasse 4\, 
 4552 Derendingen
SUMMARY:Enter | Brunch au musée Juin
END:VEVENT
END:VCALENDAR
