BEGIN:VCALENDAR
VERSION:2.0
PRODID:https://www.enter.ch
BEGIN:VEVENT
UID:20260420T124429Z - 11272@12016750b454
DTSTART:20261115T093000
DTEND:20261115T120000
DESCRIPTION:Enter | Brunch au musée novembre: \nLink:\nhttps://www.enter.c
 h/fr/evenements/brunch-au-musee-novembre/\n\nNous sommes très heureux de 
 votre participation !
DTSTAMP:20260420T124429Z
LOCATION:Enter Technikwelt Solothurn\, Gewerbestrasse 4 Gewerbestrasse 4\, 
 4552 Derendingen
SUMMARY:Enter | Brunch au musée novembre
END:VEVENT
END:VCALENDAR
