BEGIN:VCALENDAR
VERSION:2.0
PRODID:https://www.enter.ch
BEGIN:VEVENT
UID:20260420T123947Z - 56244@12016750b454
DTSTART:20260906T093000
DTEND:20260906T120000
DESCRIPTION:Enter | Brunch au musée septembre: \nLink:\nhttps://www.enter.
 ch/fr/evenements/brunch-au-musee-septembre/\n\nNous sommes très heureux d
 e votre participation !
DTSTAMP:20260420T123947Z
LOCATION:Enter Technikwelt Solothurn\, Gewerbestrasse 4 Gewerbestrasse 4\, 
 4552 Derendingen
SUMMARY:Enter | Brunch au musée septembre
END:VEVENT
END:VCALENDAR
