BEGIN:VCALENDAR
VERSION:2.0
PRODID:https://www.enter.ch
BEGIN:VEVENT
UID:20260420T125134Z - 25824@12016750b454
DTSTART:20260808T140000
DTEND:20260808T150000
DESCRIPTION:Enter | Démonstration : Linotype – la révolution de l'impri
 merie août: \nLink:\nhttps://www.enter.ch/fr/evenements/demonstration-lin
 otype-la-revolution-de-l-imprimerie-aout/\n\nNous sommes très heureux de 
 votre participation !
DTSTAMP:20260420T125134Z
LOCATION:Enter Technikwelt Solothurn\, Gewerbestrasse 4 Gewerbestrasse 4\, 
 4552 Derendingen
SUMMARY:Enter | Démonstration : Linotype – la révolution de l'imprimeri
 e août
END:VEVENT
END:VCALENDAR
