BEGIN:VCALENDAR
VERSION:2.0
PRODID:https://www.enter.ch
BEGIN:VEVENT
UID:20260420T123402Z - 99427@12016750b454
DTSTART:20261205T140000
DTEND:20261205T150000
DESCRIPTION:Enter | Démonstration : Linotype – La révolution de l'impri
 merie (décembre): \nLink:\nhttps://www.enter.ch/fr/evenements/demonstrati
 on-linotype-la-revolution-de-l-imprimerie-decembre/\n\nNous sommes très h
 eureux de votre participation !
DTSTAMP:20260420T123402Z
LOCATION:Enter Technikwelt Solothurn\, Gewerbestrasse 4 Gewerbestrasse 4\, 
 4552 Derendingen
SUMMARY:Enter | Démonstration : Linotype – La révolution de l'imprimeri
 e (décembre)
END:VEVENT
END:VCALENDAR
