BEGIN:VCALENDAR
VERSION:2.0
PRODID:https://www.enter.ch
BEGIN:VEVENT
UID:20260420T123422Z - 5153@12016750b454
DTSTART:20270206T140000
DTEND:20270206T150000
DESCRIPTION:Enter | Démonstration : Linotype – la révolution de l'impr
 imerie (février): \nLink:\nhttps://www.enter.ch/fr/evenements/demonstrati
 on-linotype-la-revolution-de-l-imprimerie-fevrier/\n\nNous sommes très he
 ureux de votre participation !
DTSTAMP:20260420T123422Z
LOCATION:Enter Technikwelt Solothurn\, Gewerbestrasse 4 Gewerbestrasse 4\, 
 4552 Derendingen
SUMMARY:Enter | Démonstration : Linotype – la révolution de l'imprimer
 ie (février)
END:VEVENT
END:VCALENDAR
