BEGIN:VCALENDAR
VERSION:2.0
PRODID:https://www.enter.ch
BEGIN:VEVENT
UID:20260420T123256Z - 24384@12016750b454
DTSTART:20270109T140000
DTEND:20270109T150000
DESCRIPTION:Enter | Démonstration : Linotype – la révolution de l'impr
 imerie (janvier): \nLink:\nhttps://www.enter.ch/fr/evenements/demonstratio
 n-linotype-la-revolution-de-l-imprimerie-janvier/\n\nNous sommes très heu
 reux de votre participation !
DTSTAMP:20260420T123256Z
LOCATION:Enter Technikwelt Solothurn\, Gewerbestrasse 4 Gewerbestrasse 4\, 
 4552 Derendingen
SUMMARY:Enter | Démonstration : Linotype – la révolution de l'imprimer
 ie (janvier)
END:VEVENT
END:VCALENDAR
