BEGIN:VCALENDAR
VERSION:2.0
PRODID:https://www.enter.ch
BEGIN:VEVENT
UID:20260420T124226Z - 20866@12016750b454
DTSTART:20260704T140000
DTEND:20260704T150000
DESCRIPTION:Enter | Démonstration : Linotype – la révolution de l'impri
 merie juillet: \nLink:\nhttps://www.enter.ch/fr/evenements/demonstration-l
 inotype-la-revolution-de-l-imprimerie-juillet/\n\nNous sommes très heureu
 x de votre participation !
DTSTAMP:20260420T124226Z
LOCATION:Enter Technikwelt Solothurn\, Gewerbestrasse 4 Gewerbestrasse 4\, 
 4552 Derendingen
SUMMARY:Enter | Démonstration : Linotype – la révolution de l'imprimeri
 e juillet
END:VEVENT
END:VCALENDAR
