BEGIN:VCALENDAR
VERSION:2.0
PRODID:https://www.enter.ch
BEGIN:VEVENT
UID:20260420T124523Z - 3403@12016750b454
DTSTART:20260606T140000
DTEND:20260606T150000
DESCRIPTION:Enter | Démonstration : Linotype – la révolution de l'impri
 merie juin: \nLink:\nhttps://www.enter.ch/fr/evenements/demonstration-lino
 type-la-revolution-de-l-imprimerie-juin/\n\nNous sommes très heureux de v
 otre participation !
DTSTAMP:20260420T124523Z
LOCATION:Enter Technikwelt Solothurn\, Gewerbestrasse 4 Gewerbestrasse 4\, 
 4552 Derendingen
SUMMARY:Enter | Démonstration : Linotype – la révolution de l'imprimeri
 e juin
END:VEVENT
END:VCALENDAR
