BEGIN:VCALENDAR
VERSION:2.0
PRODID:https://www.enter.ch
BEGIN:VEVENT
UID:20260420T123308Z - 21980@12016750b454
DTSTART:20270313T140000
DTEND:20270313T150000
DESCRIPTION:Enter | Démonstration : Linotype – la révolution de l'impr
 imerie (mars): \nLink:\nhttps://www.enter.ch/fr/evenements/demonstration-l
 inotype-la-revolution-de-l-imprimerie-mars/\n\nNous sommes très heureux d
 e votre participation !
DTSTAMP:20260420T123308Z
LOCATION:Enter Technikwelt Solothurn\, Gewerbestrasse 4 Gewerbestrasse 4\, 
 4552 Derendingen
SUMMARY:Enter | Démonstration : Linotype – la révolution de l'imprimer
 ie (mars)
END:VEVENT
END:VCALENDAR
