BEGIN:VCALENDAR
VERSION:2.0
PRODID:https://www.enter.ch
BEGIN:VEVENT
UID:20260420T123436Z - 47315@12016750b454
DTSTART:20261107T140000
DTEND:20261107T150000
DESCRIPTION:Enter | Démonstration : Linotype – La révolution de l'impri
 merie (novembre): \nLink:\nhttps://www.enter.ch/fr/evenements/demonstratio
 n-linotype-la-revolution-de-l-imprimerie-novembre/\n\nNous sommes très he
 ureux de votre participation !
DTSTAMP:20260420T123436Z
LOCATION:Enter Technikwelt Solothurn\, Gewerbestrasse 4 Gewerbestrasse 4\, 
 4552 Derendingen
SUMMARY:Enter | Démonstration : Linotype – La révolution de l'imprimeri
 e (novembre)
END:VEVENT
END:VCALENDAR
