BEGIN:VCALENDAR
VERSION:2.0
PRODID:https://www.enter.ch
BEGIN:VEVENT
UID:20260420T123308Z - 73176@12016750b454
DTSTART:20261010T140000
DTEND:20261010T150000
DESCRIPTION:Enter | Démonstration : Linotype – La révolution de l'impri
 merie (octobre): \nLink:\nhttps://www.enter.ch/fr/evenements/demonstration
 -linotype-la-revolution-de-l-imprimerie-octobre/\n\nNous sommes très heur
 eux de votre participation !
DTSTAMP:20260420T123308Z
LOCATION:Enter Technikwelt Solothurn\, Gewerbestrasse 4 Gewerbestrasse 4\, 
 4552 Derendingen
SUMMARY:Enter | Démonstration : Linotype – La révolution de l'imprimeri
 e (octobre)
END:VEVENT
END:VCALENDAR
