BEGIN:VCALENDAR
VERSION:2.0
PRODID:https://www.enter.ch
BEGIN:VEVENT
UID:20260420T125036Z - 98066@12016750b454
DTSTART:20260905T140000
DTEND:20260905T150000
DESCRIPTION:Enter | Démonstration : Linotype – la révolution de l'impri
 merie septembre: \nLink:\nhttps://www.enter.ch/fr/evenements/demonstration
 -linotype-la-revolution-de-l-imprimerie-septembre/\n\nNous sommes très he
 ureux de votre participation !
DTSTAMP:20260420T125036Z
LOCATION:Enter Technikwelt Solothurn\, Gewerbestrasse 4 Gewerbestrasse 4\, 
 4552 Derendingen
SUMMARY:Enter | Démonstration : Linotype – la révolution de l'imprimeri
 e septembre
END:VEVENT
END:VCALENDAR
