BEGIN:VCALENDAR
VERSION:2.0
PRODID:https://www.enter.ch
BEGIN:VEVENT
UID:20260420T123903Z - 69820@12016750b454
DTSTART:20260613T100000
DTEND:20260613T170000
DESCRIPTION:Enter | Enter Marché aux Puces: \nLink:\nhttps://www.enter.ch/
 fr/evenements/enter-marche-aux-puces-juin/\n\nNous sommes très heureux de
  votre participation !
DTSTAMP:20260420T123903Z
LOCATION:Enter Technikwelt Solothurn\, Gewerbestrasse 4 Gewerbestrasse 4\, 
 4552 Derendingen
SUMMARY:Enter | Enter Marché aux Puces
END:VEVENT
END:VCALENDAR
