BEGIN:VCALENDAR
VERSION:2.0
PRODID:https://www.enter.ch
BEGIN:VEVENT
UID:20260420T125800Z - 63969@12016750b454
DTSTART:20260926T100000
DTEND:20260927T170000
DESCRIPTION:Enter | Enter OTM - Marché aux pièces pour véhicules anciens
 : \nLink:\nhttps://www.enter.ch/fr/evenements/enter-otm-marche-aux-pieces-
 pour-vehicules-anciens/\n\nNous sommes très heureux de votre participatio
 n !
DTSTAMP:20260420T125800Z
LOCATION:Enter Technikwelt Solothurn\, Gewerbestrasse 4 Gewerbestrasse 4\, 
 4552 Derendingen
SUMMARY:Enter | Enter OTM - Marché aux pièces pour véhicules anciens
END:VEVENT
END:VCALENDAR
