BEGIN:VCALENDAR
VERSION:2.0
PRODID:https://www.enter.ch
BEGIN:VEVENT
UID:20260420T123948Z - 90108@12016750b454
DTSTART:20270109T100000
DTEND:20270109T170000
DESCRIPTION:Enter | Journée Autophon: \nLink:\nhttps://www.enter.ch/fr/eve
 nements/journee-autophon-2027/\n\nNous sommes très heureux de votre parti
 cipation !
DTSTAMP:20260420T123948Z
LOCATION:Enter Technikwelt Solothurn\, Gewerbestrasse 4 Gewerbestrasse 4\, 
 4552 Derendingen
SUMMARY:Enter | Journée Autophon
END:VEVENT
END:VCALENDAR
