BEGIN:VCALENDAR
VERSION:2.0
PRODID:https://www.enter.ch
BEGIN:VEVENT
UID:20260420T124430Z - 64230@12016750b454
DTSTART:20261010T100000
DTEND:20261010T170000
DESCRIPTION:Enter | Marché aux puces Enter: \nLink:\nhttps://www.enter.ch/
 fr/evenements/marche-aux-puces-enter-octobre/\n\nNous sommes très heureux
  de votre participation !
DTSTAMP:20260420T124430Z
LOCATION:Enter Technikwelt Solothurn\, Gewerbestrasse 4 Gewerbestrasse 4\, 
 4552 Derendingen
SUMMARY:Enter | Marché aux puces Enter
END:VEVENT
END:VCALENDAR
