BEGIN:VCALENDAR
VERSION:2.0
PRODID:https://www.enter.ch
BEGIN:VEVENT
UID:20260420T123724Z - 78931@12016750b454
DTSTART:20261205T100000
DTEND:20261206T170000
DESCRIPTION:Enter | Marché de Noël: \nLink:\nhttps://www.enter.ch/fr/even
 ements/marche-de-noel-2026/\n\nNous sommes très heureux de votre particip
 ation !
DTSTAMP:20260420T123724Z
LOCATION:Enter Technikwelt Solothurn\, Gewerbestrasse 4 Gewerbestrasse 4\, 
 4552 Derendingen
SUMMARY:Enter | Marché de Noël
END:VEVENT
END:VCALENDAR
