BEGIN:VCALENDAR
VERSION:2.0
PRODID:https://www.enter.ch
BEGIN:VEVENT
UID:20260426T030206Z - 44275@c9d354f01e69
DTSTART:20260524T100000
DTEND:20260524T170000
DESCRIPTION:Enter | Rassemblement Ford (avec Ford Suisse): \nLink:\nhttps:/
 /www.enter.ch/fr/evenements/rassemblement-ford-mai-26/\n\nNous sommes trè
 s heureux de votre participation !
DTSTAMP:20260426T030206Z
LOCATION:Enter Technikwelt Solothurn\, Gewerbestrasse 4 Gewerbestrasse 4\, 
 4552 Derendingen
SUMMARY:Enter | Rassemblement Ford (avec Ford Suisse)
END:VEVENT
END:VCALENDAR
