BEGIN:VCALENDAR
VERSION:2.0
PRODID:https://www.enter.ch
BEGIN:VEVENT
UID:20260423T193616Z - 62036@12016750b454
DTSTART:20260802T100000
DTEND:20260802T170000
DESCRIPTION:Enter | Rencontre de Hotrods & Custom Cars: \nLink:\nhttps://ww
 w.enter.ch/fr/evenements/rencontre-de-hotrods-custom-cars-aout-26/\n\nNous
  sommes très heureux de votre participation !
DTSTAMP:20260423T193616Z
LOCATION:Enter Technikwelt Solothurn\, Gewerbestrasse 4 Gewerbestrasse 4\, 
 4552 Derendingen
SUMMARY:Enter | Rencontre de Hotrods & Custom Cars
END:VEVENT
END:VCALENDAR
