BEGIN:VCALENDAR
VERSION:2.0
PRODID:https://www.enter.ch
BEGIN:VEVENT
UID:20260423T004300Z - 16793@12016750b454
DTSTART:20260606T100000
DTEND:20260607T170000
DESCRIPTION:Enter | Rencontre de voitures de film: \nLink:\nhttps://www.ent
 er.ch/fr/evenements/rencontre-de-voitures-de-film-2026/\n\nNous sommes tr
 ès heureux de votre participation !
DTSTAMP:20260423T004300Z
LOCATION:Enter Technikwelt Solothurn\, Gewerbestrasse 4 Gewerbestrasse 4\, 
 4552 Derendingen
SUMMARY:Enter | Rencontre de voitures de film
END:VEVENT
END:VCALENDAR
