BEGIN:VCALENDAR
VERSION:2.0
PRODID:https://www.enter.ch
BEGIN:VEVENT
UID:20260419T144730Z - 37594@12016750b454
DTSTART:20260918T200000
DTEND:20260918T000000
DESCRIPTION:Enter | Soirée Disco 70s & 80s: \nLink:\nhttps://www.enter.ch/
 fr/evenements/soiree-disco-70s-80s-septembre/\n\nNous sommes très heureux
  de votre participation !
DTSTAMP:20260419T144730Z
LOCATION:Enter Technikwelt Solothurn\, Gewerbestrasse 4 Gewerbestrasse 4\, 
 4552 Derendingen
SUMMARY:Enter | Soirée Disco 70s & 80s
END:VEVENT
END:VCALENDAR
