BEGIN:VCALENDAR
VERSION:2.0
PRODID:https://www.enter.ch
BEGIN:VEVENT
UID:20260420T123401Z - 80886@12016750b454
DTSTART:20260502T103000
DTEND:20260502T120000
DESCRIPTION:Enter | Visite publique : Les temps forts de l'histoire de la t
 echnique: \nLink:\nhttps://www.enter.ch/fr/evenements/visite-publique-les-
 temps-forts-de-l-histoire-de-la-technique-mai/\n\nNous sommes très heureu
 x de votre participation !
DTSTAMP:20260420T123401Z
LOCATION:Enter Technikwelt Solothurn\, Gewerbestrasse 4 Gewerbestrasse 4\, 
 4552 Derendingen
SUMMARY:Enter | Visite publique : Les temps forts de l'histoire de la techn
 ique
END:VEVENT
END:VCALENDAR
